BEGIN:VCALENDAR
VERSION:2.0
PRODID:-//Ecole Steiner de Verrières-le-Buisson - ECPv6.15.20//NONSGML v1.0//EN
CALSCALE:GREGORIAN
METHOD:PUBLISH
X-WR-CALNAME:Ecole Steiner de Verrières-le-Buisson
X-ORIGINAL-URL:https://ecole-steiner-verrieres.org
X-WR-CALDESC:Évènements pour Ecole Steiner de Verrières-le-Buisson
REFRESH-INTERVAL;VALUE=DURATION:PT1H
X-Robots-Tag:noindex
X-PUBLISHED-TTL:PT1H
BEGIN:VTIMEZONE
TZID:Europe/Paris
BEGIN:DAYLIGHT
TZOFFSETFROM:+0100
TZOFFSETTO:+0200
TZNAME:CEST
DTSTART:20250330T010000
END:DAYLIGHT
BEGIN:STANDARD
TZOFFSETFROM:+0200
TZOFFSETTO:+0100
TZNAME:CET
DTSTART:20251026T010000
END:STANDARD
BEGIN:DAYLIGHT
TZOFFSETFROM:+0100
TZOFFSETTO:+0200
TZNAME:CEST
DTSTART:20260329T010000
END:DAYLIGHT
BEGIN:STANDARD
TZOFFSETFROM:+0200
TZOFFSETTO:+0100
TZNAME:CET
DTSTART:20261025T010000
END:STANDARD
BEGIN:DAYLIGHT
TZOFFSETFROM:+0100
TZOFFSETTO:+0200
TZNAME:CEST
DTSTART:20270328T010000
END:DAYLIGHT
BEGIN:STANDARD
TZOFFSETFROM:+0200
TZOFFSETTO:+0100
TZNAME:CET
DTSTART:20271031T010000
END:STANDARD
END:VTIMEZONE
BEGIN:VEVENT
DTSTART;TZID=Europe/Paris:20260619T203000
DTEND;TZID=Europe/Paris:20260619T220000
DTSTAMP:20260424T155641
CREATED:20260423T111031Z
LAST-MODIFIED:20260423T111312Z
UID:8096-1781901000-1781906400@ecole-steiner-verrieres.org
SUMMARY:"Roméo et Juliette"\, par la 11e classe - 2026
DESCRIPTION:Théâtre ! Venez nombreux vendredi 19 juin et samedi 20 juin pour assister aux représentations données par la 11e classe (élèves de 16-17 ans) accompagnée par Gaël Colin. \nVendredi 19 juin 2026 à 20h30 et samedi 20 juin 2026 à 18h. \nUn buffet (payant) tenu par la 8e classe vous accueille dès 19h30 le vendredi ; le samedi\, le buffet sera tenu par la 10e classe. \nPrécisions à venir : âge minimum conseillé. \nOuvert à tous. Entrée : libre participation (chapeau à la sortie). \nGrande Salle Odilon-Redon au sein de l’école Steiner\, 62 rue de Paris à Verrières-le-Buisson. \nParking ouvert en haut de l’école\, au 21 route de Bièvres.
URL:https://ecole-steiner-verrieres.org/evenement/romeo-et-juliette-par-la-11e-classe-2026/
LOCATION:Ecole Steiner de Verrières-le-Buisson\, 62 rue de Paris\, Verrières-le-Buisson\, 91370\, France
CATEGORIES:Evenement école
ATTACH;FMTTYPE=image/jpeg:https://ecole-steiner-verrieres.org/wp-content/uploads/2026/04/romeo-juliette-chagall.jpg
END:VEVENT
END:VCALENDAR