BEGIN:VCALENDAR
VERSION:2.0
PRODID:-//Ecole Steiner de Verrières-le-Buisson - ECPv6.15.20//NONSGML v1.0//EN
CALSCALE:GREGORIAN
METHOD:PUBLISH
X-WR-CALNAME:Ecole Steiner de Verrières-le-Buisson
X-ORIGINAL-URL:https://ecole-steiner-verrieres.org
X-WR-CALDESC:Évènements pour Ecole Steiner de Verrières-le-Buisson
REFRESH-INTERVAL;VALUE=DURATION:PT1H
X-Robots-Tag:noindex
X-PUBLISHED-TTL:PT1H
BEGIN:VTIMEZONE
TZID:Europe/Paris
BEGIN:DAYLIGHT
TZOFFSETFROM:+0100
TZOFFSETTO:+0200
TZNAME:CEST
DTSTART:20250330T010000
END:DAYLIGHT
BEGIN:STANDARD
TZOFFSETFROM:+0200
TZOFFSETTO:+0100
TZNAME:CET
DTSTART:20251026T010000
END:STANDARD
BEGIN:DAYLIGHT
TZOFFSETFROM:+0100
TZOFFSETTO:+0200
TZNAME:CEST
DTSTART:20260329T010000
END:DAYLIGHT
BEGIN:STANDARD
TZOFFSETFROM:+0200
TZOFFSETTO:+0100
TZNAME:CET
DTSTART:20261025T010000
END:STANDARD
BEGIN:DAYLIGHT
TZOFFSETFROM:+0100
TZOFFSETTO:+0200
TZNAME:CEST
DTSTART:20270328T010000
END:DAYLIGHT
BEGIN:STANDARD
TZOFFSETFROM:+0200
TZOFFSETTO:+0100
TZNAME:CET
DTSTART:20271031T010000
END:STANDARD
END:VTIMEZONE
BEGIN:VEVENT
DTSTART;TZID=Europe/Paris:20260529T200000
DTEND;TZID=Europe/Paris:20260529T213000
DTSTAMP:20260423T165046
CREATED:20260422T112141Z
LAST-MODIFIED:20260422T114617Z
UID:8067-1780084800-1780090200@ecole-steiner-verrieres.org
SUMMARY:Grand concert de l'orchestre et de la chorale
DESCRIPTION:Venez nombreux assister au concert du grand orchestre et de la chorale de l’école Steiner ! \nDes élèves de la 7e à la 11e classe (12-17 ans environ) vous présenteront le fruit de leur travail sous la direction d’Anselme Killian pour l’orchestre et de Johanna Manteaux pour la chorale. \nDans la grande salle Odilon-Redon. \nEntrée libre\, participation aux frais possible à la sortie (chapeau). \nUn buffet (payant) sera tenu par la 9e classe. \nEntrée au 62 rue de Paris.\nEntrée parking : 21\, route de Bièvres\, à Verrières-le-Buisson.
URL:https://ecole-steiner-verrieres.org/evenement/grand-concert-de-lorchestre-et-de-la-chorale-2026/
LOCATION:Ecole Steiner de Verrières-le-Buisson\, 62 rue de Paris\, Verrières-le-Buisson\, 91370\, France
CATEGORIES:Evenement école
ATTACH;FMTTYPE=image/jpeg:https://ecole-steiner-verrieres.org/wp-content/uploads/2021/10/ecole_steiner-verrieres_orchestre_lycee.jpg
END:VEVENT
END:VCALENDAR